BEGIN:VCALENDAR
VERSION:2.0
PRODID:-//Repair Cafe Wales - ECPv6.15.20//NONSGML v1.0//EN
CALSCALE:GREGORIAN
METHOD:PUBLISH
X-WR-CALNAME:Repair Cafe Wales
X-ORIGINAL-URL:https://repaircafewales.org
X-WR-CALDESC:Events for Repair Cafe Wales
REFRESH-INTERVAL;VALUE=DURATION:PT1H
X-Robots-Tag:noindex
X-PUBLISHED-TTL:PT1H
BEGIN:VTIMEZONE
TZID:Europe/London
BEGIN:DAYLIGHT
TZOFFSETFROM:+0000
TZOFFSETTO:+0100
TZNAME:BST
DTSTART:20200329T010000
END:DAYLIGHT
BEGIN:STANDARD
TZOFFSETFROM:+0100
TZOFFSETTO:+0000
TZNAME:GMT
DTSTART:20201025T010000
END:STANDARD
BEGIN:DAYLIGHT
TZOFFSETFROM:+0000
TZOFFSETTO:+0100
TZNAME:BST
DTSTART:20210328T010000
END:DAYLIGHT
BEGIN:STANDARD
TZOFFSETFROM:+0100
TZOFFSETTO:+0000
TZNAME:GMT
DTSTART:20211031T010000
END:STANDARD
BEGIN:DAYLIGHT
TZOFFSETFROM:+0000
TZOFFSETTO:+0100
TZNAME:BST
DTSTART:20220327T010000
END:DAYLIGHT
BEGIN:STANDARD
TZOFFSETFROM:+0100
TZOFFSETTO:+0000
TZNAME:GMT
DTSTART:20221030T010000
END:STANDARD
END:VTIMEZONE
BEGIN:VEVENT
DTSTART;TZID=Europe/London:20210605T140000
DTEND;TZID=Europe/London:20210605T170000
DTSTAMP:20260419T152207
CREATED:20210520T140352Z
LAST-MODIFIED:20260309T110641Z
UID:10004181-1622901600-1622912400@repaircafewales.org
SUMMARY:Repair Cafe Carmarthen
DESCRIPTION:Bring along your broken or damaged item and our volunteer repairers will try to fix it\, for free. You can enjoy a cup of tea or coffee\, and chat to your fellow neighbours while you wait. We’ll even show you how it is done too if you like! The best way to reuse and recycle there is. \nTypical repairs include; basic bicycle maintenance\, electrical appliance repair\, computing assistance\, sewing\, ornament repair\, and woodworking; though we will have a look at most things\, except Microwaves as they are too dangerous. \nGot any questions? Just drop us a message on Facebook or Twitter\, and we will do our best to ensure a repairer is available to fix your item. \nMore fixers are always welcome – come along even if it is just to find out what is going on\, and tell your friends! See you there!
URL:https://repaircafewales.org/event/repair-cafe-carmarthen/2021-06-05/
LOCATION:Carmarthen\, Lammas Street\, Cegin Hedyn\, Carmarthen\, Carmarthenshire\, SA31 3AD\, United Kingdom
ATTACH;FMTTYPE=image/jpeg:https://repaircafewales.org/wp-content/uploads/carmarthen-scaled.jpg
GEO:51.859013;-4.309254
X-APPLE-STRUCTURED-LOCATION;VALUE=URI;X-ADDRESS=Carmarthen Lammas Street Cegin Hedyn Carmarthen Carmarthenshire SA31 3AD United Kingdom;X-APPLE-RADIUS=500;X-TITLE=Lammas Street\, Cegin Hedyn:geo:-4.309254,51.859013
END:VEVENT
BEGIN:VEVENT
DTSTART;TZID=Europe/London:20210612T100000
DTEND;TZID=Europe/London:20210612T150000
DTSTAMP:20260419T152207
CREATED:20210525T140340Z
LAST-MODIFIED:20230511T132031Z
UID:10004244-1623492000-1623510000@repaircafewales.org
SUMMARY:Repair Café Maidenhead
DESCRIPTION:A repair café is a volunteer-run event where repair coaches help visitors to fix their beloved but broken item and extend its life. Why throw it away when it can be brought back to life with just a little help!? \nLearn new skills\, meet new people and create the habit of repairing and reusing things. \nThe event runs every second Saturday of the month between 10am – 1pm at the Maidenhead Library. \nRepair skills available include\, amongst others: \n\ntextiles\, sewing\nwoodwork\, dolls\, toys\nsmall electrical items (excludes microwaves)\n\nWe aim to fix anything\, our volunteers love to solve problems! Check out our Facebook and Instagram to find out what we have been fixing. \nPre-book a free ticket by clicking ‘Register’ on our Eventbrite page here: https://www.eventbrite.co.uk/e/repair-cafe-maidenhead-tickets-161329066581 \nAlternatively\, email us on repair.maidenhead@gmail.com. \nAlso follow us on Instagram and Facebook. \nGet more involved \nWe’re always looking for volunteers to join us\, if you’d like to get involved\, email Gabi at repair.maidenhead@gmail.com. \nThanks very much!
URL:https://repaircafewales.org/event/repair-cafe-maidenhead/2021-06-12/
LOCATION:Maidenhead\, Eco Action Hub\, Nicholson's Centre\, Unit 5\, 7 Nicholson Lane\, Maidenhead\, SL6 1LB\, United Kingdom
ATTACH;FMTTYPE=image/jpeg:https://repaircafewales.org/wp-content/uploads/repair-cafe-wales-0017.jpg
GEO:51.522079;-0.7235
X-APPLE-STRUCTURED-LOCATION;VALUE=URI;X-ADDRESS=Maidenhead Eco Action Hub Nicholson's Centre Unit 5 7 Nicholson Lane Maidenhead SL6 1LB United Kingdom;X-APPLE-RADIUS=500;X-TITLE=Eco Action Hub\, Nicholson's Centre\, Unit 5\, 7 Nicholson Lane:geo:-0.7235,51.522079
END:VEVENT
BEGIN:VEVENT
DTSTART;TZID=Europe/London:20210620T140000
DTEND;TZID=Europe/London:20210620T160000
DTSTAMP:20260419T152207
CREATED:20200203T125419Z
LAST-MODIFIED:20250801T124614Z
UID:10004088-1624197600-1624204800@repaircafewales.org
SUMMARY:Repair Café Monmouth
DESCRIPTION:Bring along your broken or damaged item and our volunteer repairers will try to fix it\, for free. You can enjoy a cup of tea or coffee\, and chat to your fellow neighbours while you wait. We’ll even show you how it is done too if you like! The best way to reuse and recycle there is. \nTypical repairs include; basic bicycle maintenance\, electrical appliance repair\, computing assistance\, sewing\, ornament repair\, and woodworking; though we will have a look at most things\, except Microwaves as they are too dangerous. \nGot any questions? Just drop us a message on Facebook or Twitter\, and we will do our best to ensure a repairer is available to fix your item. \nMore fixers are always welcome – come along even if it is just to find out what is going on\, and tell your friends! See you there!
URL:https://repaircafewales.org/event/repair-cafe-monmouth/2021-06-20/
LOCATION:Monmouth\, Rockfield Park Community Centre\, Cornwallis Way\,\, Monmouth\, Monmouthshire\, NP25 5DN\, United Kingdom
ATTACH;FMTTYPE=image/jpeg:https://repaircafewales.org/wp-content/uploads/repair-cafe-wales-0017.jpg
GEO:51.813271;-2.731282
X-APPLE-STRUCTURED-LOCATION;VALUE=URI;X-ADDRESS=Monmouth Rockfield Park Community Centre Cornwallis Way Monmouth Monmouthshire NP25 5DN United Kingdom;X-APPLE-RADIUS=500;X-TITLE=Rockfield Park Community Centre\, Cornwallis Way\,:geo:-2.731282,51.813271
END:VEVENT
BEGIN:VEVENT
DTSTART;TZID=Europe/London:20210626T100000
DTEND;TZID=Europe/London:20210626T120000
DTSTAMP:20260419T152207
CREATED:20210625T111451Z
LAST-MODIFIED:20230511T133605Z
UID:10004304-1624701600-1624708800@repaircafewales.org
SUMMARY:Repair Café Quarndon
DESCRIPTION:Bring along your broken or damaged item and our volunteer repairers will try to fix it\, for free. You can enjoy a cup of tea or coffee\, and chat to your fellow neighbours while you wait. We’ll even show you how it is done too if you like! The best way to reuse and recycle there is. \nTypical repairs include; basic bicycle maintenance\, electrical appliance repair\, computing assistance\, sewing\, ornament repair\, and woodworking; though we will have a look at most things\, except Microwaves as they are too dangerous. \nGot any questions? Just drop us a message on Facebook or Twitter\, and we will do our best to ensure a repairer is available to fix your item. \nMore fixers are always welcome – come along even if it is just to find out what is going on\, and tell your friends! See you there!
URL:https://repaircafewales.org/event/repair-cafe-quarndon/2021-06-26/
LOCATION:Quarndon\, Quarndon Village Hall\, 122 Church Road\, Quarndon\, Derby\, Derbyshire\, DE22 5JA\, United Kingdom
ATTACH;FMTTYPE=image/jpeg:https://repaircafewales.org/wp-content/uploads/IMG_20200722_140125-2-scaled.jpg
GEO:52.965768;-1.502692
X-APPLE-STRUCTURED-LOCATION;VALUE=URI;X-ADDRESS=Quarndon Quarndon Village Hall 122 Church Road Quarndon Derby Derbyshire DE22 5JA United Kingdom;X-APPLE-RADIUS=500;X-TITLE=Quarndon Village Hall:geo:-1.502692,52.965768
END:VEVENT
END:VCALENDAR