BEGIN:VCALENDAR
VERSION:2.0
PRODID:-//Repair Cafe Wales - ECPv6.15.20//NONSGML v1.0//EN
CALSCALE:GREGORIAN
METHOD:PUBLISH
X-WR-CALNAME:Repair Cafe Wales
X-ORIGINAL-URL:https://repaircafewales.org
X-WR-CALDESC:Events for Repair Cafe Wales
REFRESH-INTERVAL;VALUE=DURATION:PT1H
X-Robots-Tag:noindex
X-PUBLISHED-TTL:PT1H
BEGIN:VTIMEZONE
TZID:Europe/London
BEGIN:DAYLIGHT
TZOFFSETFROM:+0000
TZOFFSETTO:+0100
TZNAME:BST
DTSTART:20250330T010000
END:DAYLIGHT
BEGIN:STANDARD
TZOFFSETFROM:+0100
TZOFFSETTO:+0000
TZNAME:GMT
DTSTART:20251026T010000
END:STANDARD
BEGIN:DAYLIGHT
TZOFFSETFROM:+0000
TZOFFSETTO:+0100
TZNAME:BST
DTSTART:20260329T010000
END:DAYLIGHT
BEGIN:STANDARD
TZOFFSETFROM:+0100
TZOFFSETTO:+0000
TZNAME:GMT
DTSTART:20261025T010000
END:STANDARD
BEGIN:DAYLIGHT
TZOFFSETFROM:+0000
TZOFFSETTO:+0100
TZNAME:BST
DTSTART:20270328T010000
END:DAYLIGHT
BEGIN:STANDARD
TZOFFSETFROM:+0100
TZOFFSETTO:+0000
TZNAME:GMT
DTSTART:20271031T010000
END:STANDARD
END:VTIMEZONE
BEGIN:VEVENT
DTSTART;TZID=Europe/London:20260516T110000
DTEND;TZID=Europe/London:20260516T130000
DTSTAMP:20260420T153439
CREATED:20210907T152836Z
LAST-MODIFIED:20251117T153455Z
UID:10004494-1778929200-1778936400@repaircafewales.org
SUMMARY:Repair Cafe Canton
DESCRIPTION:Bring along your broken or damaged item and our volunteer repairers will try to fix it\, for free. You can enjoy a cup of tea or coffee\, and chat to your fellow neighbours while you wait. We’ll even show you how it is done too if you like! The best way to reuse and recycle there is. \nTypical repairs include; basic bicycle maintenance\, electrical appliance repair\, computing assistance\, sewing\, ornament repair\, and woodworking; though we will have a look at most things\, except Microwaves as they are too dangerous. \nGot any questions? Just drop us a message on Facebook or Twitter\, and we will do our best to ensure a repairer is available to fix your item. \nMore fixers are always welcome – come along even if it is just to find out what is going on\, and tell your friends! See you there!
URL:https://repaircafewales.org/event/repair-cafe-canton/2026-05-16/
LOCATION:Cardiff\, Canton\, Chapter Arts Centre\, Market Road\, Cardiff\, Canton\, CF5 1QE\, United Kingdom
ATTACH;FMTTYPE=image/jpeg:https://repaircafewales.org/wp-content/uploads/Canton-Venue.jpg
GEO:51.482943;-3.203663
X-APPLE-STRUCTURED-LOCATION;VALUE=URI;X-ADDRESS=Cardiff Canton Chapter Arts Centre Market Road Cardiff Canton CF5 1QE United Kingdom;X-APPLE-RADIUS=500;X-TITLE=Chapter Arts Centre\, Market Road:geo:-3.203663,51.482943
END:VEVENT
BEGIN:VEVENT
DTSTART;TZID=Europe/London:20260620T110000
DTEND;TZID=Europe/London:20260620T130000
DTSTAMP:20260420T153439
CREATED:20210907T152836Z
LAST-MODIFIED:20251117T153455Z
UID:10004495-1781953200-1781960400@repaircafewales.org
SUMMARY:Repair Cafe Canton
DESCRIPTION:Bring along your broken or damaged item and our volunteer repairers will try to fix it\, for free. You can enjoy a cup of tea or coffee\, and chat to your fellow neighbours while you wait. We’ll even show you how it is done too if you like! The best way to reuse and recycle there is. \nTypical repairs include; basic bicycle maintenance\, electrical appliance repair\, computing assistance\, sewing\, ornament repair\, and woodworking; though we will have a look at most things\, except Microwaves as they are too dangerous. \nGot any questions? Just drop us a message on Facebook or Twitter\, and we will do our best to ensure a repairer is available to fix your item. \nMore fixers are always welcome – come along even if it is just to find out what is going on\, and tell your friends! See you there!
URL:https://repaircafewales.org/event/repair-cafe-canton/2026-06-20/
LOCATION:Cardiff\, Canton\, Chapter Arts Centre\, Market Road\, Cardiff\, Canton\, CF5 1QE\, United Kingdom
ATTACH;FMTTYPE=image/jpeg:https://repaircafewales.org/wp-content/uploads/Canton-Venue.jpg
GEO:51.482943;-3.203663
X-APPLE-STRUCTURED-LOCATION;VALUE=URI;X-ADDRESS=Cardiff Canton Chapter Arts Centre Market Road Cardiff Canton CF5 1QE United Kingdom;X-APPLE-RADIUS=500;X-TITLE=Chapter Arts Centre\, Market Road:geo:-3.203663,51.482943
END:VEVENT
END:VCALENDAR