BEGIN:VCALENDAR
VERSION:2.0
PRODID:-//Repair Cafe Wales - ECPv6.15.20//NONSGML v1.0//EN
CALSCALE:GREGORIAN
METHOD:PUBLISH
X-ORIGINAL-URL:https://repaircafewales.org
X-WR-CALDESC:Events for Repair Cafe Wales
REFRESH-INTERVAL;VALUE=DURATION:PT1H
X-Robots-Tag:noindex
X-PUBLISHED-TTL:PT1H
BEGIN:VTIMEZONE
TZID:Europe/London
BEGIN:DAYLIGHT
TZOFFSETFROM:+0000
TZOFFSETTO:+0100
TZNAME:BST
DTSTART:20250330T010000
END:DAYLIGHT
BEGIN:STANDARD
TZOFFSETFROM:+0100
TZOFFSETTO:+0000
TZNAME:GMT
DTSTART:20251026T010000
END:STANDARD
BEGIN:DAYLIGHT
TZOFFSETFROM:+0000
TZOFFSETTO:+0100
TZNAME:BST
DTSTART:20260329T010000
END:DAYLIGHT
BEGIN:STANDARD
TZOFFSETFROM:+0100
TZOFFSETTO:+0000
TZNAME:GMT
DTSTART:20261025T010000
END:STANDARD
BEGIN:DAYLIGHT
TZOFFSETFROM:+0000
TZOFFSETTO:+0100
TZNAME:BST
DTSTART:20270328T010000
END:DAYLIGHT
BEGIN:STANDARD
TZOFFSETFROM:+0100
TZOFFSETTO:+0000
TZNAME:GMT
DTSTART:20271031T010000
END:STANDARD
END:VTIMEZONE
BEGIN:VEVENT
DTSTART;TZID=Europe/London:20260425T100000
DTEND;TZID=Europe/London:20260425T130000
DTSTAMP:20260421T090824
CREATED:20260114T171905Z
LAST-MODIFIED:20260114T171905Z
UID:10005694-1777111200-1777122000@repaircafewales.org
SUMMARY:Newport\, Rogerstone
DESCRIPTION:
URL:https://repaircafewales.org/event/newport-rogerstone/2026-04-25/
LOCATION:Newport\, Rogerstone\, TyDu Hall\, Welfare Grounds\, Tregwilym Road\, Newport\, Gwent\, NP10 9EQ\, United Kingdom
ATTACH;FMTTYPE=image/jpeg:https://repaircafewales.org/wp-content/uploads/image.jpeg
END:VEVENT
BEGIN:VEVENT
DTSTART;TZID=Europe/London:20260523T100000
DTEND;TZID=Europe/London:20260523T130000
DTSTAMP:20260421T090824
CREATED:20260114T171905Z
LAST-MODIFIED:20260114T171905Z
UID:10005695-1779530400-1779541200@repaircafewales.org
SUMMARY:Newport\, Rogerstone
DESCRIPTION:
URL:https://repaircafewales.org/event/newport-rogerstone/2026-05-23/
LOCATION:Newport\, Rogerstone\, TyDu Hall\, Welfare Grounds\, Tregwilym Road\, Newport\, Gwent\, NP10 9EQ\, United Kingdom
ATTACH;FMTTYPE=image/jpeg:https://repaircafewales.org/wp-content/uploads/image.jpeg
END:VEVENT
BEGIN:VEVENT
DTSTART;TZID=Europe/London:20260627T100000
DTEND;TZID=Europe/London:20260627T130000
DTSTAMP:20260421T090824
CREATED:20260114T171905Z
LAST-MODIFIED:20260114T171905Z
UID:10005696-1782554400-1782565200@repaircafewales.org
SUMMARY:Newport\, Rogerstone
DESCRIPTION:
URL:https://repaircafewales.org/event/newport-rogerstone/2026-06-27/
LOCATION:Newport\, Rogerstone\, TyDu Hall\, Welfare Grounds\, Tregwilym Road\, Newport\, Gwent\, NP10 9EQ\, United Kingdom
ATTACH;FMTTYPE=image/jpeg:https://repaircafewales.org/wp-content/uploads/image.jpeg
END:VEVENT
END:VCALENDAR